Workbook

Sheet 工程量清单说明
A1: 1.工程量清单说明
A2: 1.1 本工程量清单是根据养护合同中包括的有合同约束力的工程量清单计量规则、图纸以及有关工程量清单的国家标准、行业标准、合同条款中约定的工程量计算规则编制。约定计量规则中没有的子目，其工程量按照有合同约束力的图纸所标示尺寸的理论净量计算。计量采用中华人民共和国法定计量单位。
A3: 1.2 本工程量清单应与招标文件中的投标人须知（如有）、通用合同条款、专用合同条款、工程量清单计量规则、技术规范及图纸等一起阅读和理解。
A4: 1.3 本工程量清单中所列工程数量是估算的或设计的预计数量，仅作为报价的共同基础，不能作为最终结算与支付的依据。实际支付应按实际完成的工程量，由承包人按工程量清单计量规则约定的计量方法，以咨询人（或称监理人，下同）认可的尺寸、断面计量，按本工程量清单的单价和总额价计算支付金额；或者，根据具体情况，按合同条款第 15.4 款的约定，由咨询人确定的单价或总额价计算支付额。
A5: 1.4 工程量清单各章是按第二篇第三章“工程量清单计量规则”、第四篇“技术规范”的相应章次编号的，因此，工程量清单中各章的工程子目的范围与计量等应与“工程量清单计量规则”“技术规范”相应章节的范围、计量与支付条款结合起来理解或解释。
A6: 1.5 对作业和材料的一般说明或约定，未重复写入工程量清单内，在工程量清单各子目标价前，应参阅第四篇“技术规范”的有关内容。
A7: 1.6 工程量清单中所列工程量的变动，丝毫不会降低或影响合同条款的效力，也不免除承包人按约定的标准进行施工和修复缺陷的责任。
A8: 1.7 图纸中所列的工程数量表及数量汇总表仅是提供资料，不是工程量清单的外延。当图纸与工程量清单所列数量不一致时，以工程量清单所列数量作为报价的依据。
A9: 2.报价说明
A10: 2.1 工程量清单中的每一子目须填入单价或价格，且只允许有一个报价。
A11: 2.2 除非合同另有约定，工程量清单中有标价的单价和总额价均已包括了为实施和完成合同工程所需的人工费、材料费、施工机具使用费、措施费、质检（自检）费、企业管理费、利润、规费、税金、缺陷修复费等，以及合同明示或暗示的所有责任、义务和一般风险所引起的费用。
A12: 2.3 工程量清单中投标人（或承包人）没有填入单价或价格的子目，其费用视为已分摊在工程量清单中其他相关子目的单价或价格之中。承包人必须按咨询人指令完成工程量清单中未填入单价或价格的子目，但不能得到结算与支付。
... A68: 5.30 除特别说明外，本工程量清单依照“交通运输部办公厅关于印发《公路养护项目合同范本》的通知（交办公路函〔2025〕1819号）”发布的《公路养护项目合同范本》相关规定执行。

Sheet 100章
A1: 4.1 工程量清单表
A2: 工 程 量 清 单
A3: 项目名称：乌海市G244线K13+431-K21+800段公路养护工程施工招标（二次）
A4: 标段名称：G244WHSG（EC）-1
A5: 清单 第100章 总 则
A6: 子目号 | B6: 子 目 名 称 | C6: 单 位 | D6: 数 量 | E6: 单 价 | F6: 合 价
A7: 101 | B7: 通则 | F7: =ROUND(D7*E7,0) -> 0
A8: 101-1 | B8: 保险费 | F8: =ROUND(D8*E8,0) -> 0
A9: -a | B9: 按合同条款规定，提供建筑工程一切险 | C9: 总额 | D9: 1 | E9: =ROUND((SUM(F11:F27)+SUM('投标报价汇总表 '!D8:D13))*0.003,2) -> 250.52 | F9: =ROUND(D9*E9,0) -> 251
A10: -b | B10: 按合同条款规定，提供第三者责任险 | C10: 总额 | D10: 1 | E10: =ROUND(1000000*0.004,2) -> 4000 | F10: =ROUND(D10*E10,0) -> 4000
A11: 102 | B11: 工程管理 | F11: =ROUND(D11*E11,0) -> 0
A12: 102-2 | B12: 施工环保费 | C12: 总额 | D12: 1 | F12: =ROUND(D12*E12,0) -> 0
A13: 102-3 | B13: 安全生产费(按最高投标限价的1.5%计列) | C13: 总额 | D13: 1 | E13: =ROUND((5567047)*0.015,2) -> 83505.71 | F13: =ROUND(D13*E13,0) -> 83506
A14: 103 | B14: 临时工程与设施 | F14: =ROUND(D14*E14,0) -> 0
A15: 103-1 | B15: 临时道路修建、养护与拆除（包括原道路的养护） | C15: 总额 | D15: 1 | F15: =ROUND(D15*E15,0) -> 0
A16: 103-2 | B16: 临时占地 | C16: 总额 | D16: 1 | F16: =ROUND(D16*E16,0) -> 0
A17: 103-3 | B17: 临时供电设施架设、维护与拆除 | C17: 总额 | D17: 1 | F17: =ROUND(D17*E17,0) -> 0
A18: 103-4 | B18: 临时供水与排污设施 | C18: 总额 | D18: 1 | F18: =ROUND(D18*E18,0) -> 0
F19: =ROUND(D19*E19,0) -> 0
F20: =ROUND(D20*E20,0) -> 0
F21: =ROUND(D21*E21,0) -> 0
F22: =ROUND(D22*E22,0) -> 0
F23: =ROUND(D23*E23,0) -> 0
F24: =ROUND(D24*E24,0) -> 0
F25: =ROUND(D25*E25,0) -> 0
F26: =ROUND(D26*E26,0) -> 0
F27: =ROUND(D27*E27,0) -> 0
A28: 清单 第100章 合计 （人民币：元） | F28: =ROUND(SUM(F7:F27),0) -> 87757

Sheet 200章
A1: 工 程 量 清 单
A2: ='100章'!A3:F3 -> 项目名称：乌海市G244线K13+431-K21+800段公路养护工程施工招标（二次）
A3: ='100章'!A4:F4 -> 标段名称：G244WHSG（EC）-1
A4: 清单 第200章 路 基
A5: 子目号 | B5: 子 目 名 称 | C5: 单 位 | D5: 数 量 | E5: 单 价 | F5: 合 价
A6: 203 | B6: 路堤与路床病害处治 | D6: =SUM(G6:Z6) -> 0 | F6: =ROUND(D6*E6,0) -> 0
A7: 203-2 | B7: 路基填筑 | D7: =SUM(G7:Z7) -> 0 | F7: =ROUND(D7*E7,0) -> 0
A8: -b | B8: 借方填筑 | C8: m3 | D8: =SUM(G8:Z8) -> 40 | F8: =ROUND(D8*E8,0) -> 0 | G8: 40
A9: 205 | B9: 坡面防护与支挡 | D9: =SUM(G9:Z9) -> 0 | F9: =ROUND(D9*E9,0) -> 0
A10: 205-1 | B10: 砌体类坡面防护（护坡、护面墙）修复 | D10: =SUM(G10:Z10) -> 0 | F10: =ROUND(D10*E10,0) -> 0
A11: -b | B11: 水泥砂浆抹面 | C11: m2 | D11: =SUM(G11:Z11) -> 1 | F11: =ROUND(D11*E11,0) -> 0 | G11: =1 -> 1
A12: -f | B12: 现浇混凝土 | D12: =SUM(G12:Z12) -> 0 | F12: =ROUND(D12*E12,0) -> 0
A13: -f-1 | B13: C25现浇混凝土 | C13: m3 | D13: =SUM(G13:Z13) -> 2.3 | F13: =ROUND(D13*E13,0) -> 0 | G13: 2.3
D14: =SUM(G14:Z14) -> 0 | F14: =ROUND(D14*E14,0) -> 0
D15: =SUM(G15:Z15) -> 0 | F15: =ROUND(D15*E15,0) -> 0
D16: =SUM(G16:Z16) -> 0 | F16: =ROUND(D16*E16,0) -> 0
D17: =SUM(G17:Z17) -> 0 | F17: =ROUND(D17*E17,0) -> 0
D18: =SUM(G18:Z18) -> 0 | F18: =ROUND(D18*E18,0) -> 0
D19: =SUM(G19:Z19) -> 0 | F19: =ROUND(D19*E19,0) -> 0
D20: =SUM(G20:Z20) -> 0 | F20: =ROUND(D20*E20,0) -> 0
D21: =SUM(G21:Z21) -> 0 | F21: =ROUND(D21*E21,0) -> 0
D22: =SUM(G22:Z22) -> 0 | F22: =ROUND(D22*E22,0) -> 0
D23: =SUM(G23:Z23) -> 0 | F23: =ROUND(D23*E23,0) -> 0
D24: =SUM(G24:Z24) -> 0 | F24: =ROUND(D24*E24,0) -> 0
D25: =SUM(G25:Z25) -> 0 | F25: =ROUND(D25*E25,0) -> 0
... D27: =SUM(G27:Z27) -> 0 | F27: =ROUND(D27*E27,0) -> 0
A28: 清单 第200章 合计 （人民币：元） | F28: =ROUND(SUM(F6:F27),0) -> 0

Sheet 300章 
A1: 工 程 量 清 单
A2: ='100章'!A3:F3 -> 项目名称：乌海市G244线K13+431-K21+800段公路养护工程施工招标（二次）
A3: ='100章'!A4:F4 -> 标段名称：G244WHSG（EC）-1
A4: 清单 第300章 路 面
A5: 子目号 | B5: 子 目 名 称 | C5: 单 位 | D5: 数 量 | E5: 单 价 | F5: 合 价
A6: 302 | B6: 路面基层 | D6: =SUM(G6:Z6) -> 0 | F6: =ROUND(D6*E6,0) -> 0
A7: 302-1 | B7: 挖除基层 | D7: =SUM(G7:Z7) -> 0 | F7: =ROUND(D7*E7,0) -> 0
A8: -a | B8: 挖除水稳料 | C8: m3 | D8: =SUM(G8:Z8) -> 82.5 | F8: =ROUND(D8*E8,0) -> 0 | G8: =15+30+37.5 -> 82.5
A9: 302-3 | B9: 基层摊铺 | D9: =SUM(G9:Z9) -> 0 | F9: =ROUND(D9*E9,0) -> 0
A10: -c | B10: 水泥混凝土基层 | D10: =SUM(G10:Z10) -> 0 | F10: =ROUND(D10*E10,0) -> 0
A11: -c-1 | B11: C20水泥混凝土基层 厚25cm | C11: m3 | D11: =SUM(G11:Z11) -> 103.2 | F11: =ROUND(D11*E11,0) -> 0 | G11: =18.8+37.5+46.9 -> 103.2
A12: 303 | B12: 沥青路面 | D12: =SUM(G12:Z12) -> 0 | F12: =ROUND(D12*E12,0) -> 0
A13: 303-1 | B13: 沥青路面铣刨 | D13: =SUM(G13:Z13) -> 0 | F13: =ROUND(D13*E13,0) -> 0
A14: -a | B14: 铣刨 | C14: m3 | D14: =SUM(G14:Z14) -> 148.03 | F14: =ROUND(D14*E14,0) -> 0 | G14: =(2200+147)*0.05 -> 117.35 | H14: =(210+210)*0.02 -> 8.4 | I14: =(105+105)*0.75/100 -> 1.58 | J14: =3.8+7.5+9.4 -> 20.7
A15: 303-2 | B15: 裂缝处治 | D15: =SUM(G15:Z15) -> 0 | F15: =ROUND(D15*E15,0) -> 0
A16: -b | B16: 开槽灌缝 | D16: =SUM(G16:Z16) -> 0 | F16: =ROUND(D16*E16,0) -> 0
A17: -b-1 | B17: 密封胶灌缝 | C17: m | D17: =SUM(G17:Z17) -> 6882.6 | F17: =ROUND(D17*E17,0) -> 0 | G17: =566.3+875+187.5+625+800+575+680+875+268.8+550+880 -> 6882.6
A18: 303-5 | B18: 功能性罩面 | D18: =SUM(G18:Z18) -> 0 | F18: =ROUND(D18*E18,0) -> 0
A19: -b | B19: 薄层罩面 | D19: =SUM(G19:Z19) -> 0 | F19: =ROUND(D19*E19,0) -> 0
A20: -b-1 | B20: 改性沥青混凝土薄层罩面（SMC-13型） 厚2.5cm | C20: m2 | D20: =SUM(G20:Z20) -> 61512 | F20: =ROUND(D20*E20,0) -> 0 | G20: =(0.21+0.088+60.606+0.112+0.112+0.112)*1000 -> 61240 | H20: =26+30+30+17+25+34+50+60 -> 272
A21: -c | B21: 罩面 | D21: =SUM(G21:Z21) -> 0 | F21: =ROUND(D21*E21,0) -> 0
A22: -c-1 | B22: 改性沥青混凝土面层（AC-16型） 厚4cm | C22: m2 | D22: =SUM(G22:Z22) -> 27387 | F22: =ROUND(D22*E22,0) -> 0 | G22: =(0.719+11.34+11.403+0.112+0.112+0.938)*1000 -> 24624 | H22: =2590+20+52+75+26 -> 2763
A23: -c-2 | B23: 改性沥青混凝土面层（AC-16型） 厚5cm | C23: m2 | D23: =SUM(G23:Z23) -> 2347 | F23: =ROUND(D23*E23,0) -> 0 | G23: =(2.2+0.147)*1000 -> 2347
A24: 303-6 | B24: 透层、黏层和防水黏结层 | D24: =SUM(G24:Z24) -> 0 | F24: =ROUND(D24*E24,0) -> 0
A25: -b | B25: 黏层 | D25: =SUM(G25:Z25) -> 0 | F25: =ROUND(D25*E25,0) -> 0
A26: -b-1 | B26: 改性乳化沥青粘层 | C26: m2 | D26: =SUM(G26:Z26) -> 91246 | F26: =ROUND(D26*E26,0) -> 0 | G26: =(0.719+11.34+0.21+0.088+60.606+11.403+2.2+0.147+0.112+0.112+0.938+0.112+0.112+0.112)*1000 -> 88211 | H26: =2590+20+52+75+26+26+30+30+17+25+34+50+60 -> 3035
A27: 305-6 | B27: 路缘石、路肩石 | D27: =SUM(G27:Z27) -> 0 | F27: =ROUND(D27*E27,0) -> 0
A28: -b | B28: 路缘石、路肩石更换 | D28: =SUM(G28:Z28) -> 0 | F28: =ROUND(D28*E28,0) -> 0
A29: -b-1 | B29: C25现浇混凝土路缘石（含原结构的拆除、装卸、运输与存放） | C29: m3 | D29: =SUM(G29:Z29) -> 332.4 | F29: =ROUND(D29*E29,0) -> 0 | G29: =92.5 -> 92.5 | H29: =239.9 -> 239.9
A30: -c | B30: 增设路缘石 | D30: =SUM(G30:Z30) -> 0 | F30: =ROUND(D30*E30,0) -> 0
A31: -c-1 | B31: C25现浇混凝土路缘石 | C31: m3 | D31: =SUM(G31:Z31) -> 4.5 | F31: =ROUND(D31*E31,0) -> 0 | G31: =0.8+0.2+0.4+0.8+0.2+0.3+0.1+0.2+0.3+0.5+0.5+0.2 -> 4.5
A32: 313 | B32: 路肩培土、中央分隔带回填土 | D32: =SUM(G32:Z32) -> 0 | F32: =ROUND(D32*E32,0) -> 0
A33: 313-1 | B33: 路肩培土 | D33: =SUM(G33:Z33) -> 0 | F33: =ROUND(D33*E33,0) -> 0
A34: -a | B34: 培砂砾路肩 | C34: m3 | D34: =SUM(G34:Z34) -> 351.3 | F34: =ROUND(D34*E34,0) -> 0 | G34: =0.8+0.3+219.3 -> 220.4 | H34: =0.9+64.8+65.2 -> 130.9
A35: 323 | B35: 路面表面处理 | D35: =SUM(G35:Z35) -> 0 | F35: =ROUND(D35*E35,0) -> 0
A36: 323-1 | B36: 拉毛 | D36: =SUM(G36:Z36) -> 0 | F36: =ROUND(D36*E36,0) -> 0
A37: -a | B37: 沥青混凝土路面拉毛 | C37: m2 | D37: =SUM(G37:Z37) -> 87035 | F37: =ROUND(D37*E37,0) -> 0 | G37: =(0.719+11.34+0.21+0.088+60.606+11.403+0.112+0.112+0.938+0.112+0.112+0.112)*1000-210-210-105-105 -> 85234 | H37: =1573 -> 1573 | I37: =75+26+17+50+60 -> 228
A38: -b | B38: 水泥混凝土路面拉毛 | C38: m2 | D38: =SUM(G38:Z38) -> 1234 | F38: =ROUND(D38*E38,0) -> 0 | G38: =1017 -> 1017 | H38: =20+52+26+30+30+25+34 -> 217
D39: =SUM(G39:Z39) -> 0 | F39: =ROUND(D39*E39,0) -> 0
D40: =SUM(G40:Z40) -> 0 | F40: =ROUND(D40*E40,0) -> 0
...

Sheet 400章 
A1: 工 程 量 清 单
A2: ='100章'!A3:F3 -> 项目名称：乌海市G244线K13+431-K21+800段公路养护工程施工招标（二次）
A3: ='100章'!A4:F4 -> 标段名称：G244WHSG（EC）-1
A4: 清单 第400章 桥梁、涵洞
A5: 子目号 | B5: 子 目 名 称 | C5: 单 位 | D5: 数 量 | E5: 单 价 | F5: 合 价
A6: 402 | B6: 混凝土表层缺陷处理 | D6: =SUM(G6:Z6) -> 0 | F6: =ROUND(D6*E6,0) -> 0
A7: 402-5 | B7: 混凝土表面防腐涂装 | D7: =SUM(G7:Z7) -> 0 | F7: =ROUND(D7*E7,0) -> 0
A8: -a | B8: 混凝土表面涂装 | C8: m2 | D8: =SUM(G8:Z8) -> 262.2 | F8: =ROUND(D8*E8,0) -> 0 | G8: =12.6 -> 12.6 | H8: =9.6 -> 9.6 | I8: 240
A9: -b | B9: 融雪剂防腐层 | C9: m2 | D9: =SUM(G9:Z9) -> 384.5 | F9: =ROUND(D9*E9,0) -> 0 | G9: =14.4 -> 14.4 | H9: =370.1 -> 370.1
A10: 402-9 | B10: 环氧砂浆修补 | C10: m2 | D10: =SUM(G10:Z10) -> 8.2 | F10: =ROUND(D10*E10,0) -> 0 | G10: =3 -> 3 | H10: =5 -> 5 | I10: =0.2 -> 0.2
A11: 403 | B11: 混凝土结构裂缝处理 | D11: =SUM(G11:Z11) -> 0 | F11: =ROUND(D11*E11,0) -> 0
A12: 403-1 | B12: 表面封闭 | C12: m | D12: =SUM(G12:Z12) -> 386 | F12: =ROUND(D12*E12,0) -> 0 | G12: =28 -> 28 | H12: =200 -> 200 | I12: =18 -> 18 | J12: =45 -> 45 | K12: =95 -> 95
A13: 403-3 | B13: 压力注浆 | D13: =SUM(G13:Z13) -> 0 | F13: =ROUND(D13*E13,0) -> 0
A14: -a | B14: 压力注胶修补裂缝 | C14: m | D14: =SUM(G14:Z14) -> 61.2 | F14: =ROUND(D14*E14,0) -> 0 | G14: 15 | H14: 42.2 | I14: =4 -> 4
A15: 404 | B15: 支座和伸缩装置更换 | D15: =SUM(G15:Z15) -> 0 | F15: =ROUND(D15*E15,0) -> 0
A16: 404-4 | B16: 伸缩装置维修 | D16: =SUM(G16:Z16) -> 0 | F16: =ROUND(D16*E16,0) -> 0
A17: -a | B17: 更换橡胶条 | D17: =SUM(G17:Z17) -> 0 | F17: =ROUND(D17*E17,0) -> 0
A18: -a-1 | B18: 更换止水带 | C18: m | D18: =SUM(G18:Z18) -> 48 | F18: =ROUND(D18*E18,0) -> 0 | G18: =48 -> 48
A19: -b | B19: 沥青灌缝 | C19: m | D19: =SUM(G19:Z19) -> 14 | F19: =ROUND(D19*E19,0) -> 0 | G19: =14 -> 14
A20: 409 | B20: 桥梁附属设施 | D20: =SUM(G20:Z20) -> 0 | F20: =ROUND(D20*E20,0) -> 0
A21: 409-1 | B21: 泄水孔 | D21: =SUM(G21:Z21) -> 0 | F21: =ROUND(D21*E21,0) -> 0
A22: -a | B22: 更换雨水篦 | C22: 个 | D22: =SUM(G22:Z22) -> 69 | F22: =ROUND(D22*E22,0) -> 0 | G22: =69 -> 69
A23: 409-5 | B23: 护栏扶手连接件 | C23: 个 | D23: =SUM(G23:Z23) -> 3 | F23: =ROUND(D23*E23,0) -> 0 | G23: =3 -> 3
D24: =SUM(G24:Z24) -> 0 | F24: =ROUND(D24*E24,0) -> 0
D25: =SUM(G25:Z25) -> 0 | F25: =ROUND(D25*E25,0) -> 0
D26: =SUM(G26:Z26) -> 0 | F26: =ROUND(D26*E26,0) -> 0
D27: =SUM(G27:Z27) -> 0 | F27: =ROUND(D27*E27,0) -> 0
D28: =SUM(G28:Z28) -> 0 | F28: =ROUND(D28*E28,0) -> 0
A29: 清单 第400章 合计 （人民币：元） | F29: =ROUND(SUM(F6:F28),0) -> 0

Sheet 600章
A1: 工 程 量 清 单
A2: ='100章'!A3:F3 -> 项目名称：乌海市G244线K13+431-K21+800段公路养护工程施工招标（二次）
A3: ='100章'!A4:F4 -> 标段名称：G244WHSG（EC）-1
A4: 清单 第600章 安全设施
A5: 子目号 | B5: 子 目 名 称 | C5: 单 位 | D5: 数 量 | E5: 单 价 | F5: 合 价
A6: 601 | B6: 通则 | D6: =SUM(G6:Z6) -> 0 | F6: =ROUND(D6*E6,0) -> 0
A7: 601-1 | B7: 拆除护栏 | D7: =SUM(G7:Z7) -> 0 | F7: =ROUND(D7*E7,0) -> 0
A8: -c | B8: 拆除钢护栏（含拆除立柱） | C8: m | D8: =SUM(G8:Z8) -> 1017 | F8: =ROUND(D8*E8,0) -> 0 | G8: =212+164+48+48+53+352+124+16 -> 1017
A9: 602 | B9: 交通安全设施养护与更换 | D9: =SUM(G9:Z9) -> 0 | F9: =ROUND(D9*E9,0) -> 0
A10: 602-3 | B10: 波形梁钢护栏 | D10: =SUM(G10:Z10) -> 0 | F10: =ROUND(D10*E10,0) -> 0
A11: -d | B11: 更换立柱 | C11: 根 | D11: =SUM(G11:Z11) -> 98 | F11: =ROUND(D11*E11,0) -> 0 | G11: =38 -> 38 | H11: =29 -> 29 | I11: =31 -> 31
A12: 602-9 | B12: 道路交通标线 | D12: =SUM(G12:Z12) -> 0 | F12: =ROUND(D12*E12,0) -> 0
A13: -a | B13: 热熔型涂料路面标线 | D13: =SUM(G13:Z13) -> 0 | F13: =ROUND(D13*E13,0) -> 0
A14: -a-1 | B14: 热熔反光路面标线 | C14: m2 | D14: =SUM(G14:Z14) -> 3967.2 | F14: =ROUND(D14*E14,0) -> 0 | G14: =162.9+175.8+98.4+19.2+269.4+733.8+126.6+45+103.2+209.1+176.7+122.1+268.5 -> 2510.7 | H14: =35.2+19.2+3.8+146.8+9+41.8+24.4 -> 280.2 | I14: =81.5+50.4+134.7+63.3+51.6+88.4+134.3+15*9 -> 739.2 | J14: =199.8 -> 199.8 | K14: =4.3+26.8*6+4.3+26.8 -> 196.2 | L14: =7.8+3.7*6+7.4+3.7 -> 41.1
A15: -a-2 | B15: 减速振动标线 | C15: m2 | D15: =SUM(G15:Z15) -> 389.2 | F15: =ROUND(D15*E15,0) -> 0 | G15: =32.4+16.2+16.2+32.4*5+20.3*8 -> 389.2
A16: 603 | B16: 增设交通安全设施 | D16: =SUM(G16:Z16) -> 0 | F16: =ROUND(D16*E16,0) -> 0
A17: 603-1 | B17: 护栏 | D17: =SUM(G17:Z17) -> 0 | F17: =ROUND(D17*E17,0) -> 0
A18: -a | B18: 路侧波形梁钢护栏 | D18: =SUM(G18:Z18) -> 0 | F18: =ROUND(D18*E18,0) -> 0
A19: -a-1 | B19: Gr-A-4E | C19: m | D19: =SUM(G19:Z19) -> 1068 | F19: =ROUND(D19*E19,0) -> 0 | G19: =8+8+188+30+138 -> 372 | H19: =8+140+24+138+386 -> 696
A20: -a-2 | B20: BT-1 | C20: m | D20: =SUM(G20:Z20) -> 85.26 | F20: =ROUND(D20*E20,0) -> 0 | G20: =14.21*3 -> 42.63 | H20: =14.21*3 -> 42.63
A21: -c | B21: 波形梁钢护栏端头 | D21: =SUM(G21:Z21) -> 0 | F21: =ROUND(D21*E21,0) -> 0
A22: -c-1 | B22: AT1-2 | C22: 个 | D22: =SUM(G22:Z22) -> 15 | F22: =ROUND(D22*E22,0) -> 0 | G22: =7 -> 7 | H22: 8
A23: 603-3 | B23: 道路交通标志 | D23: =SUM(G23:Z23) -> 0 | F23: =ROUND(D23*E23,0) -> 0
A24: -a | B24: 单柱式交通标志 | D24: =SUM(G24:Z24) -> 0 | F24: =ROUND(D24*E24,0) -> 0
A25: -a-1 | B25: 2×□60×80cm | C25: 个 | D25: =SUM(G25:Z25) -> 37 | F25: =ROUND(D25*E25,0) -> 0 | G25: =10+15+12 -> 37
A26: 603-4 | B26: 道路交通标线 | D26: =SUM(G26:Z26) -> 0 | F26: =ROUND(D26*E26,0) -> 0
A27: -a | B27: 增设轮廓标 | D27: =SUM(G27:Z27) -> 0 | F27: =ROUND(D27*E27,0) -> 0
A28: -a-1 | B28: VG-De（Rbw）-AT1 | C28: 个 | D28: =SUM(G28:Z28) -> 54 | F28: =ROUND(D28*E28,0) -> 0 | G28: =2+2+8+3+6 -> 21 | H28: =1+2+6+3+6+15 -> 33
A29: -a-2 | B29: VG-De（Rbw）-AT2 | C29: 个 | D29: =SUM(G29:Z29) -> 56 | F29: =ROUND(D29*E29,0) -> 0 | G29: =2+26 -> 28 | H29: =2+26 -> 28
D30: =SUM(G30:Z30) -> 0 | F30: =ROUND(D30*E30,0) -> 0
D31: =SUM(G31:Z31) -> 0 | F31: =ROUND(D31*E31,0) -> 0
D32: =SUM(G32:Z32) -> 0 | F32: =ROUND(D32*E32,0) -> 0
D33: =SUM(G33:Z33) -> 0 | F33: =ROUND(D33*E33,0) -> 0
D34: =SUM(G34:Z34) -> 0 | F34: =ROUND(D34*E34,0) -> 0
D35: =SUM(G35:Z35) -> 0 | F35: =ROUND(D35*E35,0) -> 0
D36: =SUM(G36:Z36) -> 0 | F36: =ROUND(D36*E36,0) -> 0
D37: =SUM(G37:Z37) -> 0 | F37: =ROUND(D37*E37,0) -> 0
A38: 清单 第600章 合计 （人民币：元） | F38: =ROUND(SUM(F6:F37),0) -> 0

Sheet 专业工程暂估价
A1: 4.3.3专业工程暂估价表
A2: 工 程 量 清 单
A3: ='100章'!A3:F3 -> 项目名称：乌海市G244线K13+431-K21+800段公路养护工程施工招标（二次）
A4: ='100章'!A4:F4 -> 标段名称：G244WHSG（EC）-1
A5: 专业工程暂估价表
A6: 序号 | B6: 子目号 | C6: 专业工程名称 | D6: 工程内容 | E6: 金额
A29: 专业工程暂估价小计 （人民币：元） | E29: =ROUND(SUM(E7:E28),0) -> 0

Sheet 投标报价汇总表 
A1: 4.4 报价汇总表
A2: 工 程 量 清 单
A3: ='100章'!A3:F3 -> 项目名称：乌海市G244线K13+431-K21+800段公路养护工程施工招标（二次）
A4: ='100章'!A4:F4 -> 标段名称：G244WHSG（EC）-1
A5: 投标报价汇总表
A6: 序号 | B6: 章次 | C6: 科 目 名 称 | D6: 金额（人民币：元）
A7: 1 | B7: 100 | C7: 总 则 | D7: ='100章'!F28 -> 87757
A8: 2 | B8: 200 | C8: 路 基 | D8: ='200章'!F28 -> 0
A9: 3 | B9: 300 | C9: 路 面 | D9: ='300章 '!F51 -> 0
A10: 4 | B10: 400 | C10: 桥梁、涵洞 | D10: ='400章 '!F29 -> 0
A11: 5 | B11: 500 | C11: 隧道
A12: 6 | B12: 600 | C12: 安全设施 | D12: ='600章'!F38 -> 0
A13: 7 | B13: 700 | C13: 绿化与环境保护设施
A14: 8 | B14: 第100章～700章清单合计 | D14: =SUM(D7:D13) -> 87757
A15: 9 | B15: 已包含在清单合计中的材料、工程设备、专业工程暂估价合计 | D15: =专业工程暂估价!E29 -> 0
A16: 10 | B16: 清单合计减去材料、工程设备、专业工程暂估价合计 （即8-9=10） | D16: =D14-D15 -> 87757
A17: 11 | B17: 计日工合计
A18: 12 | B18: 暂列金额（不含计日工总额） | D18: 0
A19: 13 | B19: 投标报价（8+11+12=13） | D19: =ROUND(D14+D17+D18,0) -> 87757
